BEGIN:VCALENDAR
VERSION:2.0
PRODID:-//Florida Association for Infant Mental Health//Silkstart 
 Technology Inc.//
BEGIN:VTIMEZONE
TZID:US/Eastern
BEGIN:DAYLIGHT
DTSTART;VALUE=DATE-TIME:20260308T020000
TZNAME:EDT
TZOFFSETFROM:-0500
TZOFFSETTO:-0400
END:DAYLIGHT
BEGIN:STANDARD
DTSTART;VALUE=DATE-TIME:20261101T020000
TZNAME:EST
TZOFFSETFROM:-0400
TZOFFSETTO:-0500
END:STANDARD
END:VTIMEZONE
BEGIN:VEVENT
SUMMARY:Mindfulness Practice Group (Free To All for May Only)
DTSTART;TZID=US/Eastern;VALUE=DATE-TIME:20260501T121500
DTEND;TZID=US/Eastern;VALUE=DATE-TIME:20260501T130000
DTSTAMP;VALUE=DATE-TIME:20251104T215418
UID:690a760a57912605ea03c409
DESCRIPTION: A FAIMH Member Benefit (Open for Free to all for May Only) We 
 value you\, and we want you to be well--for yourselves\, your families and
  the children &amp\; families you serve. Join us to learn and experience 
 mindfulness practices that may help you reduce stress and anxiety\, 
 improve your effectiveness in your professional role\, and increase your 
 physical health and mental &amp\; emotional well-being. Mindfulness 
 practice is simply the practice of paying attention\, to the present 
 moment\, without judgment. No experience necessary. All Members are 
 welcome. Monthly on 1st Fridays from 12:15-1:00pm Eastern. Hosted by Dr. 
 Christine Hughes\, FAIMH. We will experience 2-3 practices over the 
 45-minute session\, so if you are running late\, still feel free to join -
  we are happy to have you. This event may meet the following IMH 
 Competencies that support your preparation to earn the Florida Infant 
 Mental Health Endorsement: Competency skill areas: Contemplation\, Self-
 Awareness\, Listening (All Categories) (Note: each applicant determines 
 which experience has helped them meet the required competencies during the
  Endorsement&reg\; application process\; FAIMH cannot definitively state 
 that a specific competency will be met because it is based on each 
 individual&rsquo\;s experience during each session.) 
LOCATION:online via Zoom
PRIORITY:5
URL:https://members.faimh.org:443/events/mindfulness-practice-group-member-
 benefit-21
END:VEVENT
END:VCALENDAR
