BEGIN:VCALENDAR
VERSION:2.0
PRODID:-//Florida Association for Infant Mental Health//Silkstart 
 Technology Inc.//
BEGIN:VTIMEZONE
TZID:US/Eastern
BEGIN:DAYLIGHT
DTSTART;VALUE=DATE-TIME:20260308T020000
TZNAME:EDT
TZOFFSETFROM:-0500
TZOFFSETTO:-0400
END:DAYLIGHT
BEGIN:STANDARD
DTSTART;VALUE=DATE-TIME:20261101T020000
TZNAME:EST
TZOFFSETFROM:-0400
TZOFFSETTO:-0500
END:STANDARD
END:VTIMEZONE
BEGIN:VEVENT
SUMMARY:Southwest Florida Chapter Meeting
DTSTART;TZID=US/Eastern;VALUE=DATE-TIME:20260427T120000
DTEND;TZID=US/Eastern;VALUE=DATE-TIME:20260427T130000
DTSTAMP;VALUE=DATE-TIME:20260213T210041
UID:698f90f957912605e3c3e36f
DESCRIPTION: Open to any provider that works with our youngest children and
  their families and is interested in learning more about infant mental 
 health from Sarasota\, Manatee\, DeSoto\, Charlotte\, Lee\, Collier\, 
 Hendry and Glades county. Meeting will be held via Zoom. The Zoom 
 registration link will be sent in the email confirmation once you RSVP\, 
 and again in the reminder the day before the Meeting. Questions? Contact 
 Chairs Jessica Stone\, LMHC at jessicastone@hpcswf.com Denise Grolly-Case 
 at denise.grollycase@faimh.org 
LOCATION:via Zoom
PRIORITY:5
URL:https://members.faimh.org:443/events/southwest-florida-chapter-
 meeting-34
END:VEVENT
END:VCALENDAR
